﻿BEGIN:VCALENDAR
VERSION:2.0
PRODID:-//wp-events-plugin.com//7.2.3.1//EN
TZID:Europe/Paris
X-WR-TIMEZONE:Europe/Paris
BEGIN:VEVENT
UID:81@sigmoe.fr
DTSTART;TZID=Europe/Paris:20251202T090000
DTEND;TZID=Europe/Paris:20251204T173000
DTSTAMP:20251020T161441Z
URL:https://sigmoe.fr/events/formation-qgis-initiation-avancee-inter-entre
 prises-a-distance-16/
SUMMARY:Formation QGIS initiation avancée inter-entreprises à distance
DESCRIPTION:Formation QGIS 'initiation avancée' : Formation initiation ava
 ncée à l'utilisation du logiciel QGIS 3.40\, Système d'Information Géo
 graphique bureautique Open Source\, d'une durée de 3 jours (21 heures) en
  distanciel\, au tarif de 1 150 € Hors Taxes par personne.\nLa formation
  se déroulera du 2 au 4 décembre 2025.\nSession limitée à 5 stagiaire
 s (formation inter-entreprises).\n\nLes objectifs de cette formation sont 
 :\n\n 	Découvrir les notions générales de la Géomatique\n 	Être capab
 le d’utiliser les fonctionnalités de base et intermédiaires du logicie
 l QGIS\n 	Gérer simplement des données cartographiques dans le logiciel 
 QGIS\n 	Être capable de créer des cartes thématiques à l'aide du logic
 iel QGIS\n\nLe programme détaillé de cette formation est disponible en c
 liquant ici.\n\nCette Formation QGIS 'initiation avancée' est assurée pa
 r Etienne MORO\, ingénieur topographe spécialisé SIG et Topographie num
 érique depuis 27 ans.\nSi vous êtes intéressés par cette formation\, v
 ous pouvez effectuer une réservation directement en ligne à l'aide du fo
 rmulaire ci-dessous\, en précisant les coordonnées postales de votre ent
 reprise dans la zone Commentaire (je vous recontacterai ensuite pour valid
 er ensemble votre inscription) ou me contacter au 06 62 60 32 95 pour tout
 e demande complémentaire.\n\nSIGMOÉ étant prestataire de formation enre
 gistré sous le numéro 44670581067 auprès du préfet de région Alsace-C
 hampagne-Ardenne-Lorraine et certifié QUALIOPI\, vous pouvez faire une de
 mande de prise en charge totale ou partielle auprès de votre OPCO.\n\n[ca
 ption id="attachment_2722" align="aligncenter" width="300"] Certifié QUAL
 IOPI depuis le 27/08/2021[/caption]
END:VEVENT
BEGIN:VTIMEZONE
TZID:Europe/Paris
X-LIC-LOCATION:Europe/Paris
BEGIN:STANDARD
DTSTART:20251026T020000
TZOFFSETFROM:+0200
TZOFFSETTO:+0100
TZNAME:CET
END:STANDARD
END:VTIMEZONE
END:VCALENDAR