﻿BEGIN:VCALENDAR
VERSION:2.0
PRODID:-//wp-events-plugin.com//7.2.3.1//EN
TZID:Europe/Paris
X-WR-TIMEZONE:Europe/Paris
BEGIN:VEVENT
UID:82@sigmoe.fr
DTSTART;TZID=Europe/Paris:20260317T090000
DTEND;TZID=Europe/Paris:20260319T173000
DTSTAMP:20260310T152639Z
URL:https://sigmoe.fr/events/formation-qgis-initiation-avancee-inter-entre
 prises-a-distance-17/
SUMMARY:Formation QGIS initiation avancée inter-entreprises à distance
DESCRIPTION:Formation QGIS 'initiation avancée' : Formation initiation ava
 ncée à l'utilisation du logiciel QGIS 3.44\, Système d'Information Géo
 graphique bureautique Open Source\, d'une durée de 3 jours (21 heures) en
  distanciel\, au tarif de 1 150 € Hors Taxes par personne.\nLa formation
  se déroulera du 17 au 19 mars 2026.\nSession limitée à 5 stagiaires (
 formation inter-entreprises).\n\nSESSION COMPLÈTE\n\nLes objectifs de cet
 te formation sont :\n\n 	Découvrir les notions générales de la Géomati
 que\n 	Être capable d’utiliser les fonctionnalités de base et intermé
 diaires du logiciel QGIS\n 	Gérer simplement des données cartographiques
  dans le logiciel QGIS\n 	Être capable de créer des cartes thématiques 
 à l'aide du logiciel QGIS\n\nLe programme détaillé de cette formation e
 st disponible en cliquant ici.\n\nCette Formation QGIS 'initiation avancé
 e' est assurée par Etienne MORO\, ingénieur topographe spécialisé SIG 
 et Topographie numérique depuis 27 ans.\nSi vous êtes intéressés par c
 ette formation\, vous pouvez effectuer une réservation directement en lig
 ne à l'aide du formulaire ci-dessous\, en précisant les coordonnées pos
 tales de votre entreprise dans la zone Commentaire. Je vous recontacterai 
 ensuite pour valider ensemble votre inscription. Pour toute demande compl
 émentaire\, vous pouvez également me contacter directement au 06 62 60 3
 2 95.\n\nSIGMOÉ étant prestataire de formation enregistré sous le numé
 ro 44670581067 auprès du préfet de région Alsace-Champagne-Ardenne-Lorr
 aine et certifié QUALIOPI\, vous pouvez faire une demande de prise en cha
 rge totale ou partielle auprès de votre OPCO.\n\n[caption id="attachment_
 2722" align="aligncenter" width="300"] Certifié QUALIOPI depuis le 27/08/
 2021[/caption]
END:VEVENT
BEGIN:VTIMEZONE
TZID:Europe/Paris
X-LIC-LOCATION:Europe/Paris
BEGIN:STANDARD
DTSTART:20251026T020000
TZOFFSETFROM:+0200
TZOFFSETTO:+0100
TZNAME:CET
END:STANDARD
END:VTIMEZONE
END:VCALENDAR