﻿BEGIN:VCALENDAR
VERSION:2.0
PRODID:-//wp-events-plugin.com//7.2.3.1//EN
TZID:Europe/Paris
X-WR-TIMEZONE:Europe/Paris
BEGIN:VEVENT
UID:84@sigmoe.fr
DTSTART;TZID=Europe/Paris:20260602T090000
DTEND;TZID=Europe/Paris:20260604T173000
DTSTAMP:20260311T094629Z
URL:https://sigmoe.fr/events/formation-qgis-initiation-avancee-inter-entre
 prises-a-distance-19/
SUMMARY:Formation QGIS initiation avancée inter-entreprises à distance
DESCRIPTION:Formation QGIS 'initiation avancée' : Formation initiation ava
 ncée à l'utilisation du logiciel QGIS 3.44\, Système d'Information Géo
 graphique bureautique Open Source\, d'une durée de 3 jours (21 heures) en
  distanciel\, au tarif de 1 150 € Hors Taxes par personne.\nLa formation
  se déroulera du 2 au 4 juin 2026.\nSession limitée à 5 stagiaires (fo
 rmation inter-entreprises).\n\nLes objectifs de cette formation sont :\n\n
  	Découvrir les notions générales de la Géomatique\n 	Être capable d
 ’utiliser les fonctionnalités de base et intermédiaires du logiciel QG
 IS\n 	Gérer simplement des données cartographiques dans le logiciel QGIS
 \n 	Être capable de créer des cartes thématiques à l'aide du logiciel 
 QGIS\n\nLe programme détaillé de cette formation est disponible en cliqu
 ant ici.\n\nCette Formation QGIS 'initiation avancée' est assurée par Et
 ienne MORO\, ingénieur topographe spécialisé SIG et Topographie numéri
 que depuis 28 ans.\nSi vous êtes intéressés par cette formation\, vous 
 pouvez effectuer une réservation directement en ligne à l'aide du formul
 aire ci-dessous\, en précisant les coordonnées postales de votre entrepr
 ise dans la zone Commentaire. Je vous recontacterai ensuite pour valider e
 nsemble votre inscription. Pour toute demande complémentaire\, vous pouve
 z également me contacter directement au 06 62 60 32 95.\n\nSIGMOÉ étant
  prestataire de formation enregistré sous le numéro 44670581067 auprès 
 du préfet de région Alsace-Champagne-Ardenne-Lorraine et certifié QUALI
 OPI\, vous pouvez faire une demande de prise en charge totale ou partielle
  auprès de votre OPCO.\n\n[caption id="attachment_2722" align="aligncente
 r" width="300"] Certifié QUALIOPI depuis le 27/08/2021[/caption]
END:VEVENT
BEGIN:VTIMEZONE
TZID:Europe/Paris
X-LIC-LOCATION:Europe/Paris
BEGIN:DAYLIGHT
DTSTART:20260329T030000
TZOFFSETFROM:+0100
TZOFFSETTO:+0200
TZNAME:CEST
END:DAYLIGHT
END:VTIMEZONE
END:VCALENDAR